{ "currentVersion": 10.5, "serviceDescription": "
Provides road centerline, facility site, and other labels for context when using imagery. This reference overlay was designed to be used with a true color imagery basemap.<\/SPAN><\/P><\/DIV><\/DIV>",
"mapName": "Layers",
"description": "Provides road centerline, facility site, and other labels for context when using imagery. This reference overlay was designed to be used with a true color imagery basemap.",
"copyrightText": "City of Clovis GIS Department",
"supportsDynamicLayers": false,
"layers": [
{
"id": 0,
"name": "1K",
"parentLayerId": -1,
"defaultVisibility": true,
"subLayerIds": [
1,
2,
3,
4,
5,
6,
7,
8
],
"minScale": 1950,
"maxScale": 0
},
{
"id": 1,
"name": "AdministrativeAreaBoundaryLine_1K",
"parentLayerId": 0,
"defaultVisibility": true,
"subLayerIds": null,
"minScale": 0,
"maxScale": 0
},
{
"id": 2,
"name": "FacilitySitePoint_1K",
"parentLayerId": 0,
"defaultVisibility": true,
"subLayerIds": null,
"minScale": 0,
"maxScale": 0
},
{
"id": 3,
"name": "Schools",
"parentLayerId": 0,
"defaultVisibility": true,
"subLayerIds": null,
"minScale": 0,
"maxScale": 0
},
{
"id": 4,
"name": "CountyBoundary_1K",
"parentLayerId": 0,
"defaultVisibility": true,
"subLayerIds": null,
"minScale": 0,
"maxScale": 0
},
{
"id": 5,
"name": "Road Centerlines_1K",
"parentLayerId": 0,
"defaultVisibility": true,
"subLayerIds": null,
"minScale": 0,
"maxScale": 0
},
{
"id": 6,
"name": "Railroad_1K",
"parentLayerId": 0,
"defaultVisibility": true,
"subLayerIds": null,
"minScale": 0,
"maxScale": 0
},
{
"id": 7,
"name": "Waterbodies_1K",
"parentLayerId": 0,
"defaultVisibility": true,
"subLayerIds": null,
"minScale": 0,
"maxScale": 0
},
{
"id": 8,
"name": "Waterlines_1K",
"parentLayerId": 0,
"defaultVisibility": true,
"subLayerIds": null,
"minScale": 0,
"maxScale": 0
},
{
"id": 9,
"name": "2K",
"parentLayerId": -1,
"defaultVisibility": true,
"subLayerIds": [
10,
11,
12,
13,
14,
15,
16,
17
],
"minScale": 2500,
"maxScale": 1951
},
{
"id": 10,
"name": "AdministrativeAreaBoundaryLine_2K",
"parentLayerId": 9,
"defaultVisibility": true,
"subLayerIds": null,
"minScale": 0,
"maxScale": 0
},
{
"id": 11,
"name": "Schools",
"parentLayerId": 9,
"defaultVisibility": true,
"subLayerIds": null,
"minScale": 0,
"maxScale": 0
},
{
"id": 12,
"name": "FacilitySitePoint_2K",
"parentLayerId": 9,
"defaultVisibility": true,
"subLayerIds": null,
"minScale": 0,
"maxScale": 0
},
{
"id": 13,
"name": "CountyBoundary_2K",
"parentLayerId": 9,
"defaultVisibility": true,
"subLayerIds": null,
"minScale": 0,
"maxScale": 0
},
{
"id": 14,
"name": "Road Centerlines_2K",
"parentLayerId": 9,
"defaultVisibility": true,
"subLayerIds": null,
"minScale": 0,
"maxScale": 0
},
{
"id": 15,
"name": "Railroad_2K",
"parentLayerId": 9,
"defaultVisibility": true,
"subLayerIds": null,
"minScale": 0,
"maxScale": 0
},
{
"id": 16,
"name": "Waterbodies_2K",
"parentLayerId": 9,
"defaultVisibility": true,
"subLayerIds": null,
"minScale": 0,
"maxScale": 0
},
{
"id": 17,
"name": "Waterlines_2K",
"parentLayerId": 9,
"defaultVisibility": true,
"subLayerIds": null,
"minScale": 0,
"maxScale": 0
},
{
"id": 18,
"name": "4K",
"parentLayerId": -1,
"defaultVisibility": true,
"subLayerIds": [
19,
20,
21,
22,
23,
24,
25,
26
],
"minScale": 5000,
"maxScale": 2501
},
{
"id": 19,
"name": "AdministrativeAreaBoundaryLine_4K",
"parentLayerId": 18,
"defaultVisibility": true,
"subLayerIds": null,
"minScale": 0,
"maxScale": 0
},
{
"id": 20,
"name": "FacilitySitePoint_4K",
"parentLayerId": 18,
"defaultVisibility": true,
"subLayerIds": null,
"minScale": 0,
"maxScale": 0
},
{
"id": 21,
"name": "Schools",
"parentLayerId": 18,
"defaultVisibility": true,
"subLayerIds": null,
"minScale": 0,
"maxScale": 0
},
{
"id": 22,
"name": "CountyBoundary_4K",
"parentLayerId": 18,
"defaultVisibility": true,
"subLayerIds": null,
"minScale": 0,
"maxScale": 0
},
{
"id": 23,
"name": "Road Centerlines_4K",
"parentLayerId": 18,
"defaultVisibility": true,
"subLayerIds": null,
"minScale": 0,
"maxScale": 0
},
{
"id": 24,
"name": "Railroad_4K",
"parentLayerId": 18,
"defaultVisibility": true,
"subLayerIds": null,
"minScale": 0,
"maxScale": 0
},
{
"id": 25,
"name": "Waterbodies_4K",
"parentLayerId": 18,
"defaultVisibility": true,
"subLayerIds": null,
"minScale": 0,
"maxScale": 0
},
{
"id": 26,
"name": "Waterlines_4K",
"parentLayerId": 18,
"defaultVisibility": true,
"subLayerIds": null,
"minScale": 0,
"maxScale": 0
},
{
"id": 27,
"name": "9K",
"parentLayerId": -1,
"defaultVisibility": true,
"subLayerIds": [
28,
29,
30,
31,
32,
33,
34,
35
],
"minScale": 15000,
"maxScale": 5001
},
{
"id": 28,
"name": "AdministrativeAreaBoundaryLine_9K",
"parentLayerId": 27,
"defaultVisibility": true,
"subLayerIds": null,
"minScale": 0,
"maxScale": 0
},
{
"id": 29,
"name": "FacilitySitePoint_9K",
"parentLayerId": 27,
"defaultVisibility": true,
"subLayerIds": null,
"minScale": 0,
"maxScale": 0
},
{
"id": 30,
"name": "Schools",
"parentLayerId": 27,
"defaultVisibility": true,
"subLayerIds": null,
"minScale": 0,
"maxScale": 0
},
{
"id": 31,
"name": "CountyBoundary_9K",
"parentLayerId": 27,
"defaultVisibility": true,
"subLayerIds": null,
"minScale": 0,
"maxScale": 0
},
{
"id": 32,
"name": "Road Centerlines_9K",
"parentLayerId": 27,
"defaultVisibility": true,
"subLayerIds": null,
"minScale": 0,
"maxScale": 0
},
{
"id": 33,
"name": "Railroad_9K",
"parentLayerId": 27,
"defaultVisibility": true,
"subLayerIds": null,
"minScale": 0,
"maxScale": 0
},
{
"id": 34,
"name": "Waterbodies_9K",
"parentLayerId": 27,
"defaultVisibility": true,
"subLayerIds": null,
"minScale": 0,
"maxScale": 0
},
{
"id": 35,
"name": "Waterlines_9K",
"parentLayerId": 27,
"defaultVisibility": true,
"subLayerIds": null,
"minScale": 0,
"maxScale": 0
},
{
"id": 36,
"name": "18K",
"parentLayerId": -1,
"defaultVisibility": true,
"subLayerIds": [
37,
38,
39,
40,
41,
42,
43
],
"minScale": 25000,
"maxScale": 15001
},
{
"id": 37,
"name": "AdministrativeAreaBoundaryLine_18K",
"parentLayerId": 36,
"defaultVisibility": true,
"subLayerIds": null,
"minScale": 0,
"maxScale": 0
},
{
"id": 38,
"name": "FacilitySitePoint_18K",
"parentLayerId": 36,
"defaultVisibility": true,
"subLayerIds": null,
"minScale": 0,
"maxScale": 0
},
{
"id": 39,
"name": "Schools",
"parentLayerId": 36,
"defaultVisibility": true,
"subLayerIds": null,
"minScale": 0,
"maxScale": 0
},
{
"id": 40,
"name": "CountyBoundary_18K",
"parentLayerId": 36,
"defaultVisibility": true,
"subLayerIds": null,
"minScale": 0,
"maxScale": 0
},
{
"id": 41,
"name": "Road Centerlines_18K",
"parentLayerId": 36,
"defaultVisibility": true,
"subLayerIds": null,
"minScale": 0,
"maxScale": 0
},
{
"id": 42,
"name": "Railroad_18K",
"parentLayerId": 36,
"defaultVisibility": true,
"subLayerIds": null,
"minScale": 0,
"maxScale": 0
},
{
"id": 43,
"name": "Waterbodies_18K",
"parentLayerId": 36,
"defaultVisibility": true,
"subLayerIds": null,
"minScale": 0,
"maxScale": 0
},
{
"id": 44,
"name": "36K",
"parentLayerId": -1,
"defaultVisibility": true,
"subLayerIds": [
45,
46,
47,
48,
49,
50,
51,
52
],
"minScale": 50000,
"maxScale": 25001
},
{
"id": 45,
"name": "AdministrativeAreaBoundaryLine_36K",
"parentLayerId": 44,
"defaultVisibility": true,
"subLayerIds": null,
"minScale": 0,
"maxScale": 0
},
{
"id": 46,
"name": "CountyBoundary_36K",
"parentLayerId": 44,
"defaultVisibility": true,
"subLayerIds": null,
"minScale": 0,
"maxScale": 0
},
{
"id": 47,
"name": "Schools",
"parentLayerId": 44,
"defaultVisibility": true,
"subLayerIds": null,
"minScale": 0,
"maxScale": 0
},
{
"id": 48,
"name": "FacilitySitePoint_36K",
"parentLayerId": 44,
"defaultVisibility": true,
"subLayerIds": null,
"minScale": 0,
"maxScale": 0
},
{
"id": 49,
"name": "Road Centerlines_36K",
"parentLayerId": 44,
"defaultVisibility": true,
"subLayerIds": null,
"minScale": 0,
"maxScale": 0
},
{
"id": 50,
"name": "Railroad_36K",
"parentLayerId": 44,
"defaultVisibility": true,
"subLayerIds": null,
"minScale": 0,
"maxScale": 0
},
{
"id": 51,
"name": "Waterbodies_36K",
"parentLayerId": 44,
"defaultVisibility": true,
"subLayerIds": null,
"minScale": 0,
"maxScale": 0
},
{
"id": 52,
"name": "Municipal Boundaries_36K",
"parentLayerId": 44,
"defaultVisibility": true,
"subLayerIds": null,
"minScale": 0,
"maxScale": 0
},
{
"id": 53,
"name": "72K",
"parentLayerId": -1,
"defaultVisibility": true,
"subLayerIds": [
54,
55,
56,
57,
58,
59,
60,
61
],
"minScale": 100000,
"maxScale": 50001
},
{
"id": 54,
"name": "AdministrativeAreaBoundaryLine_72K",
"parentLayerId": 53,
"defaultVisibility": true,
"subLayerIds": null,
"minScale": 0,
"maxScale": 0
},
{
"id": 55,
"name": "CountyBoundary_72K",
"parentLayerId": 53,
"defaultVisibility": true,
"subLayerIds": null,
"minScale": 0,
"maxScale": 0
},
{
"id": 56,
"name": "FacilitySitePoint_CityLabel_72K",
"parentLayerId": 53,
"defaultVisibility": true,
"subLayerIds": null,
"minScale": 0,
"maxScale": 0
},
{
"id": 57,
"name": "FacilitySitePoint_72K",
"parentLayerId": 53,
"defaultVisibility": true,
"subLayerIds": null,
"minScale": 0,
"maxScale": 0
},
{
"id": 58,
"name": "Road Centerlines_72K",
"parentLayerId": 53,
"defaultVisibility": true,
"subLayerIds": null,
"minScale": 0,
"maxScale": 0
},
{
"id": 59,
"name": "Railroad_72K",
"parentLayerId": 53,
"defaultVisibility": true,
"subLayerIds": null,
"minScale": 0,
"maxScale": 0
},
{
"id": 60,
"name": "Waterbodies_72K",
"parentLayerId": 53,
"defaultVisibility": true,
"subLayerIds": null,
"minScale": 0,
"maxScale": 0
},
{
"id": 61,
"name": "Waterlines_72K",
"parentLayerId": 53,
"defaultVisibility": true,
"subLayerIds": null,
"minScale": 0,
"maxScale": 0
},
{
"id": 62,
"name": "144K",
"parentLayerId": -1,
"defaultVisibility": true,
"subLayerIds": [
63,
64,
65,
66
],
"minScale": 150000,
"maxScale": 100001
},
{
"id": 63,
"name": "AdministrativeAreaBoundaryLine_144K",
"parentLayerId": 62,
"defaultVisibility": true,
"subLayerIds": null,
"minScale": 0,
"maxScale": 0
},
{
"id": 64,
"name": "FacilitySitePoint_CityLabel_144K",
"parentLayerId": 62,
"defaultVisibility": true,
"subLayerIds": null,
"minScale": 0,
"maxScale": 0
},
{
"id": 65,
"name": "Road Centerlines_144K",
"parentLayerId": 62,
"defaultVisibility": true,
"subLayerIds": null,
"minScale": 0,
"maxScale": 0
},
{
"id": 66,
"name": "CountyBoundary_144K",
"parentLayerId": 62,
"defaultVisibility": true,
"subLayerIds": null,
"minScale": 0,
"maxScale": 0
}
],
"tables": [],
"spatialReference": {
"wkid": 102100,
"latestWkid": 3857
},
"singleFusedMapCache": true,
"tileInfo": {
"rows": 256,
"cols": 256,
"dpi": 96,
"format": "PNG32",
"compressionQuality": 0,
"origin": {
"x": -2.0037508342787E7,
"y": 2.0037508342787E7
},
"spatialReference": {
"wkid": 102100,
"latestWkid": 3857
},
"lods": [
{
"level": 0,
"resolution": 156543.03392800014,
"scale": 5.91657527591555E8
},
{
"level": 1,
"resolution": 78271.51696399994,
"scale": 2.95828763795777E8
},
{
"level": 2,
"resolution": 39135.75848200009,
"scale": 1.47914381897889E8
},
{
"level": 3,
"resolution": 19567.87924099992,
"scale": 7.3957190948944E7
},
{
"level": 4,
"resolution": 9783.93962049996,
"scale": 3.6978595474472E7
},
{
"level": 5,
"resolution": 4891.96981024998,
"scale": 1.8489297737236E7
},
{
"level": 6,
"resolution": 2445.98490512499,
"scale": 9244648.868618
},
{
"level": 7,
"resolution": 1222.992452562495,
"scale": 4622324.434309
},
{
"level": 8,
"resolution": 611.4962262813797,
"scale": 2311162.217155
},
{
"level": 9,
"resolution": 305.74811314055756,
"scale": 1155581.108577
},
{
"level": 10,
"resolution": 152.87405657041106,
"scale": 577790.554289
},
{
"level": 11,
"resolution": 76.43702828507324,
"scale": 288895.277144
},
{
"level": 12,
"resolution": 38.21851414253662,
"scale": 144447.638572
},
{
"level": 13,
"resolution": 19.10925707126831,
"scale": 72223.819286
},
{
"level": 14,
"resolution": 9.554628535634155,
"scale": 36111.909643
},
{
"level": 15,
"resolution": 4.77731426794937,
"scale": 18055.954822
},
{
"level": 16,
"resolution": 2.388657133974685,
"scale": 9027.977411
},
{
"level": 17,
"resolution": 1.1943285668550503,
"scale": 4513.988705
},
{
"level": 18,
"resolution": 0.5971642835598172,
"scale": 2256.994353
},
{
"level": 19,
"resolution": 0.29858214164761665,
"scale": 1128.497176
}
]
},
"initialExtent": {
"xmin": -1.1498295918531418E7,
"ymin": 4080081.4381374917,
"xmax": -1.1472229114638299E7,
"ymax": 4091300.432008313,
"spatialReference": {
"cs": "pcs",
"wkid": 102100
}
},
"fullExtent": {
"xmin": -1.2175715237100907E7,
"ymin": 2954279.5611456633,
"xmax": -1.0328614467427265E7,
"ymax": 4452043.447600615,
"spatialReference": {
"cs": "pcs",
"wkid": 102100
}
},
"minScale": 144447.638572,
"maxScale": 1128.497176,
"units": "esriMeters",
"supportedImageFormatTypes": "PNG32,PNG24,PNG,JPG,DIB,TIFF,EMF,PS,PDF,GIF,SVG,SVGZ,BMP",
"documentInfo": {
"Title": "Imagery Refererence Overlay",
"Author": "Brian McLeer, City of Clovis",
"Comments": " Provides road centerline, facility site, and other labels for context when using imagery. This reference overlay was designed to be used with a true color imagery basemap.<\/SPAN><\/P><\/DIV><\/DIV>",
"Subject": "The Imagery Reference Overlay is a reference overlay that provides road centerline, facility site, and other labels for context when using imagery.",
"Category": "",
"AntialiasingMode": "None",
"TextAntialiasingMode": "Force",
"Keywords": "Hybrid Basemap,Imagery Overlay,Reference Data"
},
"capabilities": "Map,Query,Data",
"supportedQueryFormats": "JSON, AMF, geoJSON",
"hasVersionedData": true,
"exportTilesAllowed": false,
"datumTransformations": [
{
"geoTransforms": [
{
"wkid": 108001,
"latestWkid": 1241,
"transformForward": true,
"name": "NAD_1927_To_NAD_1983_NADCON"
}
]
},
{
"geoTransforms": [
{
"wkid": 108001,
"latestWkid": 1241,
"transformForward": false,
"name": "NAD_1927_To_NAD_1983_NADCON"
}
]
},
{
"geoTransforms": [
{
"wkid": 108190,
"latestWkid": 108190,
"transformForward": false,
"name": "WGS_1984_(ITRF00)_To_NAD_1983"
}
]
},
{
"geoTransforms": [
{
"wkid": 108190,
"latestWkid": 108190,
"transformForward": true,
"name": "WGS_1984_(ITRF00)_To_NAD_1983"
}
]
}
],
"supportsDatumTransformation": true,
"maxRecordCount": 1000,
"maxImageHeight": 4096,
"maxImageWidth": 4096,
"supportedExtensions": ""
}