{ "currentVersion": 10.5, "serviceDescription": "
Provides context for a wide range of people and supports a variety of application needs within a local government. The layers in this basemap provide context for multiple workflows, such as editing data or producing web maps. It includes structures, roads, major facilities, water features, and boundaries. This map also includes Campus Basemap can be used to create a high-resolution, multi-scale basemap for a university or business campus. It can also be used by government agencies to produce a high-resolution basemap for a downtown, government complex, or military base.<\/SPAN><\/P><\/DIV><\/DIV>",
"mapName": "Layers",
"description": "Provides a consumer representation of parcel information that can be used with infrastructure and parcel information. The layers in the map provide context for multiple workflows, such as editing data or producing web maps. Includes structures, roads, major facilities and landmarks, water features, parcels, addresses and boundaries. This basemap uses design elements found in the General Purpose basemap but adds additional content at larger scales.",
"copyrightText": "City of Clovis GIS Department",
"supportsDynamicLayers": false,
"layers": [
{
"id": 0,
"name": "City",
"parentLayerId": -1,
"defaultVisibility": true,
"subLayerIds": [
1,
15,
29,
42,
54,
65,
75,
84,
89
],
"minScale": 0,
"maxScale": 0
},
{
"id": 1,
"name": "1K",
"parentLayerId": 0,
"defaultVisibility": true,
"subLayerIds": [
2,
3,
4,
5,
6,
7,
8,
9,
10,
11,
12,
13,
14
],
"minScale": 1950,
"maxScale": 0
},
{
"id": 2,
"name": "FacilitySitePoint_1K",
"parentLayerId": 1,
"defaultVisibility": true,
"subLayerIds": null,
"minScale": 0,
"maxScale": 0
},
{
"id": 3,
"name": "AddressPoints_1K",
"parentLayerId": 1,
"defaultVisibility": true,
"subLayerIds": null,
"minScale": 0,
"maxScale": 0
},
{
"id": 4,
"name": "BuildingFootprints_1K",
"parentLayerId": 1,
"defaultVisibility": true,
"subLayerIds": null,
"minScale": 0,
"maxScale": 0
},
{
"id": 5,
"name": "CountyBoundary_Line_1K",
"parentLayerId": 1,
"defaultVisibility": true,
"subLayerIds": null,
"minScale": 0,
"maxScale": 0
},
{
"id": 6,
"name": "Railroad_1K",
"parentLayerId": 1,
"defaultVisibility": true,
"subLayerIds": null,
"minScale": 0,
"maxScale": 0
},
{
"id": 7,
"name": "RoadCenterlines_1K",
"parentLayerId": 1,
"defaultVisibility": true,
"subLayerIds": null,
"minScale": 0,
"maxScale": 0
},
{
"id": 8,
"name": "OwnerParcel_1K",
"parentLayerId": 1,
"defaultVisibility": true,
"subLayerIds": null,
"minScale": 0,
"maxScale": 0
},
{
"id": 9,
"name": "Waterbodies_1K",
"parentLayerId": 1,
"defaultVisibility": true,
"subLayerIds": null,
"minScale": 0,
"maxScale": 0
},
{
"id": 10,
"name": "Airport",
"parentLayerId": 1,
"defaultVisibility": true,
"subLayerIds": null,
"minScale": 0,
"maxScale": 0
},
{
"id": 11,
"name": "FacilitySites_Parks_1K",
"parentLayerId": 1,
"defaultVisibility": true,
"subLayerIds": null,
"minScale": 0,
"maxScale": 0
},
{
"id": 12,
"name": "FacilitySites_1K",
"parentLayerId": 1,
"defaultVisibility": true,
"subLayerIds": null,
"minScale": 0,
"maxScale": 0
},
{
"id": 13,
"name": "MunicipalBoundaries_1K",
"parentLayerId": 1,
"defaultVisibility": true,
"subLayerIds": null,
"minScale": 0,
"maxScale": 0
},
{
"id": 14,
"name": "CountyBoundary_1K",
"parentLayerId": 1,
"defaultVisibility": true,
"subLayerIds": null,
"minScale": 0,
"maxScale": 0
},
{
"id": 15,
"name": "2K",
"parentLayerId": 0,
"defaultVisibility": true,
"subLayerIds": [
16,
17,
18,
19,
20,
21,
22,
23,
24,
25,
26,
27,
28
],
"minScale": 2500,
"maxScale": 1951
},
{
"id": 16,
"name": "FacilitySitePoint_2K",
"parentLayerId": 15,
"defaultVisibility": true,
"subLayerIds": null,
"minScale": 0,
"maxScale": 0
},
{
"id": 17,
"name": "AddressPoints_2K",
"parentLayerId": 15,
"defaultVisibility": true,
"subLayerIds": null,
"minScale": 0,
"maxScale": 0
},
{
"id": 18,
"name": "BuildingFootprints_2K",
"parentLayerId": 15,
"defaultVisibility": true,
"subLayerIds": null,
"minScale": 0,
"maxScale": 0
},
{
"id": 19,
"name": "CountyBoundary_Line_2K",
"parentLayerId": 15,
"defaultVisibility": true,
"subLayerIds": null,
"minScale": 0,
"maxScale": 0
},
{
"id": 20,
"name": "Railroad_2K",
"parentLayerId": 15,
"defaultVisibility": true,
"subLayerIds": null,
"minScale": 0,
"maxScale": 0
},
{
"id": 21,
"name": "RoadCenterlines_2K",
"parentLayerId": 15,
"defaultVisibility": true,
"subLayerIds": null,
"minScale": 0,
"maxScale": 0
},
{
"id": 22,
"name": "OwnerParcel_2K",
"parentLayerId": 15,
"defaultVisibility": true,
"subLayerIds": null,
"minScale": 0,
"maxScale": 0
},
{
"id": 23,
"name": "Waterbodies_2K",
"parentLayerId": 15,
"defaultVisibility": true,
"subLayerIds": null,
"minScale": 0,
"maxScale": 0
},
{
"id": 24,
"name": "Airport",
"parentLayerId": 15,
"defaultVisibility": true,
"subLayerIds": null,
"minScale": 0,
"maxScale": 0
},
{
"id": 25,
"name": "FacilitySites_Parks_2K",
"parentLayerId": 15,
"defaultVisibility": true,
"subLayerIds": null,
"minScale": 0,
"maxScale": 0
},
{
"id": 26,
"name": "FacilitySites_2K",
"parentLayerId": 15,
"defaultVisibility": true,
"subLayerIds": null,
"minScale": 0,
"maxScale": 0
},
{
"id": 27,
"name": "MunicipalBoundaries_2K",
"parentLayerId": 15,
"defaultVisibility": true,
"subLayerIds": null,
"minScale": 0,
"maxScale": 0
},
{
"id": 28,
"name": "CountyBoundary_2K",
"parentLayerId": 15,
"defaultVisibility": true,
"subLayerIds": null,
"minScale": 0,
"maxScale": 0
},
{
"id": 29,
"name": "4K",
"parentLayerId": 0,
"defaultVisibility": true,
"subLayerIds": [
30,
31,
32,
33,
34,
35,
36,
37,
38,
39,
40,
41
],
"minScale": 5000,
"maxScale": 2501
},
{
"id": 30,
"name": "FacilitySitePoint_4K",
"parentLayerId": 29,
"defaultVisibility": true,
"subLayerIds": null,
"minScale": 0,
"maxScale": 0
},
{
"id": 31,
"name": "BuildingFootprints_4K",
"parentLayerId": 29,
"defaultVisibility": true,
"subLayerIds": null,
"minScale": 0,
"maxScale": 0
},
{
"id": 32,
"name": "CountyBoundary_Line_4K",
"parentLayerId": 29,
"defaultVisibility": true,
"subLayerIds": null,
"minScale": 0,
"maxScale": 0
},
{
"id": 33,
"name": "Railroad_4K",
"parentLayerId": 29,
"defaultVisibility": true,
"subLayerIds": null,
"minScale": 0,
"maxScale": 0
},
{
"id": 34,
"name": "RoadCenterlines_4K",
"parentLayerId": 29,
"defaultVisibility": true,
"subLayerIds": null,
"minScale": 0,
"maxScale": 0
},
{
"id": 35,
"name": "OwnerParcel_4K",
"parentLayerId": 29,
"defaultVisibility": true,
"subLayerIds": null,
"minScale": 0,
"maxScale": 0
},
{
"id": 36,
"name": "Waterbodies_4K",
"parentLayerId": 29,
"defaultVisibility": true,
"subLayerIds": null,
"minScale": 0,
"maxScale": 0
},
{
"id": 37,
"name": "Airport",
"parentLayerId": 29,
"defaultVisibility": true,
"subLayerIds": null,
"minScale": 0,
"maxScale": 0
},
{
"id": 38,
"name": "FacilitySites_Parks_4K",
"parentLayerId": 29,
"defaultVisibility": true,
"subLayerIds": null,
"minScale": 0,
"maxScale": 0
},
{
"id": 39,
"name": "FacilitySites_4K",
"parentLayerId": 29,
"defaultVisibility": true,
"subLayerIds": null,
"minScale": 0,
"maxScale": 0
},
{
"id": 40,
"name": "MunicipalBoundaries_4K",
"parentLayerId": 29,
"defaultVisibility": true,
"subLayerIds": null,
"minScale": 0,
"maxScale": 0
},
{
"id": 41,
"name": "CountyBoundary_4K",
"parentLayerId": 29,
"defaultVisibility": true,
"subLayerIds": null,
"minScale": 0,
"maxScale": 0
},
{
"id": 42,
"name": "9K",
"parentLayerId": 0,
"defaultVisibility": true,
"subLayerIds": [
43,
44,
45,
46,
47,
48,
49,
50,
51,
52,
53
],
"minScale": 15000,
"maxScale": 5001
},
{
"id": 43,
"name": "FacilitySitePoint_9K",
"parentLayerId": 42,
"defaultVisibility": true,
"subLayerIds": null,
"minScale": 0,
"maxScale": 0
},
{
"id": 44,
"name": "BuildingFootprints_9K",
"parentLayerId": 42,
"defaultVisibility": true,
"subLayerIds": null,
"minScale": 0,
"maxScale": 0
},
{
"id": 45,
"name": "CountyBoundary_Line_9K",
"parentLayerId": 42,
"defaultVisibility": true,
"subLayerIds": null,
"minScale": 0,
"maxScale": 0
},
{
"id": 46,
"name": "Railroad_9K",
"parentLayerId": 42,
"defaultVisibility": true,
"subLayerIds": null,
"minScale": 0,
"maxScale": 0
},
{
"id": 47,
"name": "RoadCenterlines_9K",
"parentLayerId": 42,
"defaultVisibility": true,
"subLayerIds": null,
"minScale": 0,
"maxScale": 0
},
{
"id": 48,
"name": "Waterbodies_9K",
"parentLayerId": 42,
"defaultVisibility": true,
"subLayerIds": null,
"minScale": 0,
"maxScale": 0
},
{
"id": 49,
"name": "Airport",
"parentLayerId": 42,
"defaultVisibility": true,
"subLayerIds": null,
"minScale": 0,
"maxScale": 0
},
{
"id": 50,
"name": "FacilitySites_Parks_9K",
"parentLayerId": 42,
"defaultVisibility": true,
"subLayerIds": null,
"minScale": 0,
"maxScale": 0
},
{
"id": 51,
"name": "FacilitySites_9K",
"parentLayerId": 42,
"defaultVisibility": true,
"subLayerIds": null,
"minScale": 0,
"maxScale": 0
},
{
"id": 52,
"name": "MunicipalBoundaries_9K",
"parentLayerId": 42,
"defaultVisibility": true,
"subLayerIds": null,
"minScale": 0,
"maxScale": 0
},
{
"id": 53,
"name": "CountyBoundary_9K",
"parentLayerId": 42,
"defaultVisibility": true,
"subLayerIds": null,
"minScale": 0,
"maxScale": 0
},
{
"id": 54,
"name": "18K",
"parentLayerId": 0,
"defaultVisibility": true,
"subLayerIds": [
55,
56,
57,
58,
59,
60,
61,
62,
63,
64
],
"minScale": 25000,
"maxScale": 15001
},
{
"id": 55,
"name": "FacilitySitePoint_18K",
"parentLayerId": 54,
"defaultVisibility": true,
"subLayerIds": null,
"minScale": 0,
"maxScale": 0
},
{
"id": 56,
"name": "CountyBoundary_Line_18K",
"parentLayerId": 54,
"defaultVisibility": true,
"subLayerIds": null,
"minScale": 0,
"maxScale": 0
},
{
"id": 57,
"name": "Railroad_18K",
"parentLayerId": 54,
"defaultVisibility": true,
"subLayerIds": null,
"minScale": 0,
"maxScale": 0
},
{
"id": 58,
"name": "RoadCenterlines_18K",
"parentLayerId": 54,
"defaultVisibility": true,
"subLayerIds": null,
"minScale": 0,
"maxScale": 0
},
{
"id": 59,
"name": "Waterbodies_18K",
"parentLayerId": 54,
"defaultVisibility": true,
"subLayerIds": null,
"minScale": 0,
"maxScale": 0
},
{
"id": 60,
"name": "Airport",
"parentLayerId": 54,
"defaultVisibility": true,
"subLayerIds": null,
"minScale": 0,
"maxScale": 0
},
{
"id": 61,
"name": "FacilitySites_Parks_18K",
"parentLayerId": 54,
"defaultVisibility": true,
"subLayerIds": null,
"minScale": 0,
"maxScale": 0
},
{
"id": 62,
"name": "FacilitySites_18K",
"parentLayerId": 54,
"defaultVisibility": true,
"subLayerIds": null,
"minScale": 0,
"maxScale": 0
},
{
"id": 63,
"name": "MunicipalBoundaries_18K",
"parentLayerId": 54,
"defaultVisibility": true,
"subLayerIds": null,
"minScale": 0,
"maxScale": 0
},
{
"id": 64,
"name": "CountyBoundary_18K",
"parentLayerId": 54,
"defaultVisibility": true,
"subLayerIds": null,
"minScale": 0,
"maxScale": 0
},
{
"id": 65,
"name": "36K",
"parentLayerId": 0,
"defaultVisibility": true,
"subLayerIds": [
66,
67,
68,
69,
70,
71,
72,
73,
74
],
"minScale": 50000,
"maxScale": 25001
},
{
"id": 66,
"name": "CountyBoundary_Line_36K",
"parentLayerId": 65,
"defaultVisibility": true,
"subLayerIds": null,
"minScale": 0,
"maxScale": 0
},
{
"id": 67,
"name": "Railroad_36K",
"parentLayerId": 65,
"defaultVisibility": true,
"subLayerIds": null,
"minScale": 0,
"maxScale": 0
},
{
"id": 68,
"name": "RoadCenterlines_36K",
"parentLayerId": 65,
"defaultVisibility": true,
"subLayerIds": null,
"minScale": 0,
"maxScale": 0
},
{
"id": 69,
"name": "Waterbodies_36K",
"parentLayerId": 65,
"defaultVisibility": true,
"subLayerIds": null,
"minScale": 0,
"maxScale": 0
},
{
"id": 70,
"name": "Airport",
"parentLayerId": 65,
"defaultVisibility": true,
"subLayerIds": null,
"minScale": 0,
"maxScale": 0
},
{
"id": 71,
"name": "FacilitySite_Park_36K",
"parentLayerId": 65,
"defaultVisibility": true,
"subLayerIds": null,
"minScale": 0,
"maxScale": 0
},
{
"id": 72,
"name": "FacilitySite_36K",
"parentLayerId": 65,
"defaultVisibility": true,
"subLayerIds": null,
"minScale": 0,
"maxScale": 0
},
{
"id": 73,
"name": "MunicipalBoundaries_36K",
"parentLayerId": 65,
"defaultVisibility": true,
"subLayerIds": null,
"minScale": 0,
"maxScale": 0
},
{
"id": 74,
"name": "CountyBoundary_36K",
"parentLayerId": 65,
"defaultVisibility": true,
"subLayerIds": null,
"minScale": 0,
"maxScale": 0
},
{
"id": 75,
"name": "72K",
"parentLayerId": 0,
"defaultVisibility": true,
"subLayerIds": [
76,
77,
78,
79,
80,
81,
82,
83
],
"minScale": 100000,
"maxScale": 50001
},
{
"id": 76,
"name": "CountyBoundary_Line_72K",
"parentLayerId": 75,
"defaultVisibility": true,
"subLayerIds": null,
"minScale": 0,
"maxScale": 0
},
{
"id": 77,
"name": "Railroad_72K",
"parentLayerId": 75,
"defaultVisibility": true,
"subLayerIds": null,
"minScale": 0,
"maxScale": 0
},
{
"id": 78,
"name": "RoadCenterlines_72K",
"parentLayerId": 75,
"defaultVisibility": true,
"subLayerIds": null,
"minScale": 0,
"maxScale": 0
},
{
"id": 79,
"name": "Waterbodies_72K",
"parentLayerId": 75,
"defaultVisibility": true,
"subLayerIds": null,
"minScale": 0,
"maxScale": 0
},
{
"id": 80,
"name": "Airport",
"parentLayerId": 75,
"defaultVisibility": true,
"subLayerIds": null,
"minScale": 0,
"maxScale": 0
},
{
"id": 81,
"name": "FacilitySite_Parks_72K",
"parentLayerId": 75,
"defaultVisibility": true,
"subLayerIds": null,
"minScale": 0,
"maxScale": 0
},
{
"id": 82,
"name": "MunicipalBoundaries_72K",
"parentLayerId": 75,
"defaultVisibility": true,
"subLayerIds": null,
"minScale": 0,
"maxScale": 0
},
{
"id": 83,
"name": "CountyBoundary_72K",
"parentLayerId": 75,
"defaultVisibility": true,
"subLayerIds": null,
"minScale": 0,
"maxScale": 0
},
{
"id": 84,
"name": "144K",
"parentLayerId": 0,
"defaultVisibility": true,
"subLayerIds": [
85,
86,
87,
88
],
"minScale": 150000,
"maxScale": 100001
},
{
"id": 85,
"name": "CountyBoundary_Line_144K",
"parentLayerId": 84,
"defaultVisibility": true,
"subLayerIds": null,
"minScale": 0,
"maxScale": 0
},
{
"id": 86,
"name": "RoadCenterlines_144K",
"parentLayerId": 84,
"defaultVisibility": true,
"subLayerIds": null,
"minScale": 0,
"maxScale": 0
},
{
"id": 87,
"name": "MunicipalBoundaries_144K",
"parentLayerId": 84,
"defaultVisibility": true,
"subLayerIds": null,
"minScale": 0,
"maxScale": 0
},
{
"id": 88,
"name": "CountyBoundary_144K",
"parentLayerId": 84,
"defaultVisibility": true,
"subLayerIds": null,
"minScale": 0,
"maxScale": 0
},
{
"id": 89,
"name": "288K",
"parentLayerId": 0,
"defaultVisibility": true,
"subLayerIds": [
90,
91,
92,
93
],
"minScale": 400000,
"maxScale": 150001
},
{
"id": 90,
"name": "CountyBoundary_Line_288K",
"parentLayerId": 89,
"defaultVisibility": true,
"subLayerIds": null,
"minScale": 0,
"maxScale": 0
},
{
"id": 91,
"name": "RoadCenterlines_288K",
"parentLayerId": 89,
"defaultVisibility": true,
"subLayerIds": null,
"minScale": 0,
"maxScale": 0
},
{
"id": 92,
"name": "MunicipalBoundaries_288K",
"parentLayerId": 89,
"defaultVisibility": true,
"subLayerIds": null,
"minScale": 0,
"maxScale": 0
},
{
"id": 93,
"name": "CountyBoundary_288K",
"parentLayerId": 89,
"defaultVisibility": true,
"subLayerIds": null,
"minScale": 0,
"maxScale": 0
}
],
"tables": [],
"spatialReference": {
"wkid": 102100,
"latestWkid": 3857
},
"singleFusedMapCache": true,
"tileInfo": {
"rows": 256,
"cols": 256,
"dpi": 96,
"format": "PNG",
"compressionQuality": 0,
"origin": {
"x": -2.0037508342787E7,
"y": 2.0037508342787E7
},
"spatialReference": {
"wkid": 102100,
"latestWkid": 3857
},
"lods": [
{
"level": 0,
"resolution": 156543.03392800014,
"scale": 5.91657527591555E8
},
{
"level": 1,
"resolution": 78271.51696399994,
"scale": 2.95828763795777E8
},
{
"level": 2,
"resolution": 39135.75848200009,
"scale": 1.47914381897889E8
},
{
"level": 3,
"resolution": 19567.87924099992,
"scale": 7.3957190948944E7
},
{
"level": 4,
"resolution": 9783.93962049996,
"scale": 3.6978595474472E7
},
{
"level": 5,
"resolution": 4891.96981024998,
"scale": 1.8489297737236E7
},
{
"level": 6,
"resolution": 2445.98490512499,
"scale": 9244648.868618
},
{
"level": 7,
"resolution": 1222.992452562495,
"scale": 4622324.434309
},
{
"level": 8,
"resolution": 611.4962262813797,
"scale": 2311162.217155
},
{
"level": 9,
"resolution": 305.74811314055756,
"scale": 1155581.108577
},
{
"level": 10,
"resolution": 152.87405657041106,
"scale": 577790.554289
},
{
"level": 11,
"resolution": 76.43702828507324,
"scale": 288895.277144
},
{
"level": 12,
"resolution": 38.21851414253662,
"scale": 144447.638572
},
{
"level": 13,
"resolution": 19.10925707126831,
"scale": 72223.819286
},
{
"level": 14,
"resolution": 9.554628535634155,
"scale": 36111.909643
},
{
"level": 15,
"resolution": 4.77731426794937,
"scale": 18055.954822
},
{
"level": 16,
"resolution": 2.388657133974685,
"scale": 9027.977411
},
{
"level": 17,
"resolution": 1.1943285668550503,
"scale": 4513.988705
},
{
"level": 18,
"resolution": 0.5971642835598172,
"scale": 2256.994353
},
{
"level": 19,
"resolution": 0.29858214164761665,
"scale": 1128.497176
}
]
},
"initialExtent": {
"xmin": -1.1501518357749773E7,
"ymin": 4080593.722222828,
"xmax": -1.147502706030552E7,
"ymax": 4091989.635748367,
"spatialReference": {
"cs": "pcs",
"wkid": 102100
}
},
"fullExtent": {
"xmin": -1.2175715237100907E7,
"ymin": 2954279.5611456633,
"xmax": -1.0328614467427265E7,
"ymax": 4452043.447600615,
"spatialReference": {
"cs": "pcs",
"wkid": 102100
}
},
"minScale": 288895.277144,
"maxScale": 1128.497176,
"units": "esriMeters",
"supportedImageFormatTypes": "PNG32,PNG24,PNG,JPG,DIB,TIFF,EMF,PS,PDF,GIF,SVG,SVGZ,BMP",
"documentInfo": {
"Title": "General Purpose Basemap",
"Author": "Brian McLeer, City of Clovis",
"Comments": " Provides context for a wide range of people and supports a variety of application needs within a local government. The layers in this basemap provide context for multiple workflows, such as editing data or producing web maps. It includes structures, roads, major facilities, water features, and boundaries. This map also includes Campus Basemap can be used to create a high-resolution, multi-scale basemap for a university or business campus. It can also be used by government agencies to produce a high-resolution basemap for a downtown, government complex, or military base.<\/SPAN><\/P><\/DIV><\/DIV>",
"Subject": "The General Purpose basemap provides context for a wide range of people and supports a variety of application needs within a local government.",
"Category": "",
"AntialiasingMode": "None",
"TextAntialiasingMode": "Force",
"Keywords": "University Campus,Campus Basemap,Local Government Downtown,General Purpose,Basemap"
},
"capabilities": "Map,Query,Data",
"supportedQueryFormats": "JSON, AMF, geoJSON",
"hasVersionedData": true,
"exportTilesAllowed": false,
"datumTransformations": [
{
"geoTransforms": [
{
"wkid": 108001,
"latestWkid": 1241,
"transformForward": true,
"name": "NAD_1927_To_NAD_1983_NADCON"
}
]
},
{
"geoTransforms": [
{
"wkid": 108001,
"latestWkid": 1241,
"transformForward": false,
"name": "NAD_1927_To_NAD_1983_NADCON"
}
]
},
{
"geoTransforms": [
{
"wkid": 108190,
"latestWkid": 108190,
"transformForward": false,
"name": "WGS_1984_(ITRF00)_To_NAD_1983"
}
]
},
{
"geoTransforms": [
{
"wkid": 108190,
"latestWkid": 108190,
"transformForward": true,
"name": "WGS_1984_(ITRF00)_To_NAD_1983"
}
]
}
],
"supportsDatumTransformation": true,
"maxRecordCount": 1000,
"maxImageHeight": 4096,
"maxImageWidth": 4096,
"supportedExtensions": ""
}