View In:
ArcGIS JavaScript
ArcGIS Online map viewer
Google Earth
ArcMap
ArcGIS Explorer
View Footprint In:
ArcGIS Online map viewer
Service Description: Provides road centerline, facility site, and other labels for context when using imagery. This reference overlay was designed to be used with a true color imagery basemap.
Map Name: Layers
Legend
All Layers and Tables
Layers:
Description: Provides road centerline, facility site, and other labels for context when using imagery. This reference overlay was designed to be used with a true color imagery basemap.
Copyright Text: City of Clovis GIS Department
Spatial Reference:
102100
(3857)
Single Fused Map Cache: true
Tile Info:
- Height: 256
- Width: 256
- DPI: 96
-
Levels of Detail: 20
-
Level ID: 0
[ Start Tile, End Tile ]
- Resolution: 156543.03392800014
- Scale: 5.91657527591555E8
-
Level ID: 1
[ Start Tile, End Tile ]
- Resolution: 78271.51696399994
- Scale: 2.95828763795777E8
-
Level ID: 2
[ Start Tile, End Tile ]
- Resolution: 39135.75848200009
- Scale: 1.47914381897889E8
-
Level ID: 3
[ Start Tile, End Tile ]
- Resolution: 19567.87924099992
- Scale: 7.3957190948944E7
-
Level ID: 4
[ Start Tile, End Tile ]
- Resolution: 9783.93962049996
- Scale: 3.6978595474472E7
-
Level ID: 5
[ Start Tile, End Tile ]
- Resolution: 4891.96981024998
- Scale: 1.8489297737236E7
- Format: PNG32
- Compression Quality: 0.0
- Origin: X: -2.0037508342787E7
Y: 2.0037508342787E7
- Spatial Reference: 102100
(3857)
Initial Extent:
XMin: -1.1498295918531418E7
YMin: 4080081.4381374917
XMax: -1.1472229114638299E7
YMax: 4091300.432008313
Spatial Reference: 102100
Full Extent:
XMin: -1.2175715237100907E7
YMin: 2954279.5611456633
XMax: -1.0328614467427265E7
YMax: 4452043.447600615
Spatial Reference: 102100
Units: esriMeters
Supported Image Format Types: PNG32,PNG24,PNG,JPG,DIB,TIFF,EMF,PS,PDF,GIF,SVG,SVGZ,BMP
Document Info:
Title: Imagery Refererence Overlay
Author: Brian McLeer, City of Clovis
Comments: Provides road centerline, facility site, and other labels for context when using imagery. This reference overlay was designed to be used with a true color imagery basemap.
Subject: The Imagery Reference Overlay is a reference overlay that provides road centerline, facility site, and other labels for context when using imagery.
Category:
Keywords: Hybrid Basemap,Imagery Overlay,Reference Data
AntialiasingMode: None
TextAntialiasingMode: Force
Supports Dynamic Layers: false
MaxRecordCount: 1000
MaxImageHeight: 4096
MaxImageWidth: 4096
Supported Query Formats: JSON, AMF, geoJSON
Min Scale: 144447.638572
Max Scale: 1128.497176
Supports Datum Transformation: true
Child Resources:
Info
Supported Operations:
Export Map
Identify
Find
Return Updates